


BEGIN:VCALENDAR
VERSION:2.0
PRODID:-//Block Island Ferry - ECPv6.9.0//NONSGML v1.0//EN
CALSCALE:GREGORIAN
METHOD:PUBLISH
X-WR-CALNAME:Block Island Ferry
X-ORIGINAL-URL:https://www.blockislandferry.com
X-WR-CALDESC:Events for Block Island Ferry
REFRESH-INTERVAL;VALUE=DURATION:PT1H
X-Robots-Tag:noindex
X-PUBLISHED-TTL:PT1H
BEGIN:VTIMEZONE
TZID:UTC
BEGIN:STANDARD
TZOFFSETFROM:+0000
TZOFFSETTO:+0000
TZNAME:UTC
DTSTART:20240101T000000
END:STANDARD
END:VTIMEZONE
BEGIN:VEVENT
DTSTART;TZID=UTC:20240803T090000
DTEND;TZID=UTC:20240803T233000
DTSTAMP:20260421T105643
CREATED:20240302T032131Z
LAST-MODIFIED:20240302T032131Z
UID:10127-1722675600-1722727800@www.blockislandferry.com
SUMMARY:Block Island Farmer's Market
DESCRIPTION:An Island Tradition Since 1984 \nThe Block Island Farmers Market offers fresh flowers\, produce\, baked goods\, local honey\, lemonade\, art\, photography\, woodwork\, jewelry\, handmade crafts\, and much more. \nVisit us at Legion Park from June thru September.
URL:https://www.blockislandferry.com/event/block-island-farmers-market-2-2-2-2-2-2-2-2-2-2-2-2-2-2/
LOCATION:Legion Park\, 1 Legion Way\, Block Island\, RI\, 02807\, United States
CATEGORIES:Outdoor Markets
END:VEVENT
BEGIN:VEVENT
DTSTART;TZID=UTC:20240804T090000
DTEND;TZID=UTC:20240804T140000
DTSTAMP:20260421T105643
CREATED:20240302T025733Z
LAST-MODIFIED:20240302T031259Z
UID:10077-1722762000-1722780000@www.blockislandferry.com
SUMMARY:Block Island Arts & Crafts Guild Fair
DESCRIPTION:The Block Island Arts and Crafts Guild’s membership includes photographers\, authors\, sculptors and jewelers.  Several times each summer\, from 9 am to 2 pm\, the Block Island Historical Society lawn (Old Town Rd and Ocean Ave) and becomes a showplace and marketplace for guild members.  Stop by\, browse and choose a keepsake or a gift from among the many paintings\, photographs\, sculpture\, jewelry\, fabric arts\, candles\, and more.
URL:https://www.blockislandferry.com/event/block-island-arts-crafts-guild-fair-2-2/
LOCATION:Block Island Historical Society\, 18 Old Town Rd\, Block Island\, RI\, 02807
CATEGORIES:Outdoor Markets
END:VEVENT
BEGIN:VEVENT
DTSTART;TZID=UTC:20240807T090000
DTEND;TZID=UTC:20240807T233000
DTSTAMP:20260421T105643
CREATED:20240302T032334Z
LAST-MODIFIED:20240302T032334Z
UID:10129-1723021200-1723073400@www.blockislandferry.com
SUMMARY:Block Island Farmer's Market
DESCRIPTION:An Island Tradition Since 1984 \nThe Block Island Farmers Market offers fresh flowers\, produce\, baked goods\, local honey\, lemonade\, art\, photography\, woodwork\, jewelry\, handmade crafts\, and much more. \nVisit us at Legion Park from June thru September.
URL:https://www.blockislandferry.com/event/block-island-farmers-market-2-2-2-2-2-2-2-2-2-2-2-2-2-3/
LOCATION:Legion Park\, 1 Legion Way\, Block Island\, RI\, 02807\, United States
CATEGORIES:Outdoor Markets
END:VEVENT
BEGIN:VEVENT
DTSTART;TZID=UTC:20240810T090000
DTEND;TZID=UTC:20240810T233000
DTSTAMP:20260421T105643
CREATED:20240302T032428Z
LAST-MODIFIED:20240302T032428Z
UID:10131-1723280400-1723332600@www.blockislandferry.com
SUMMARY:Block Island Farmer's Market
DESCRIPTION:An Island Tradition Since 1984 \nThe Block Island Farmers Market offers fresh flowers\, produce\, baked goods\, local honey\, lemonade\, art\, photography\, woodwork\, jewelry\, handmade crafts\, and much more. \nVisit us at Legion Park from June thru September.
URL:https://www.blockislandferry.com/event/block-island-farmers-market-2-2-2-2-2-2-2-2-2-2-2-2-2-3-2/
LOCATION:Legion Park\, 1 Legion Way\, Block Island\, RI\, 02807\, United States
CATEGORIES:Outdoor Markets
END:VEVENT
BEGIN:VEVENT
DTSTART;TZID=UTC:20240814T090000
DTEND;TZID=UTC:20240814T233000
DTSTAMP:20260421T105643
CREATED:20240302T032509Z
LAST-MODIFIED:20240302T032509Z
UID:10133-1723626000-1723678200@www.blockislandferry.com
SUMMARY:Block Island Farmer's Market
DESCRIPTION:An Island Tradition Since 1984 \nThe Block Island Farmers Market offers fresh flowers\, produce\, baked goods\, local honey\, lemonade\, art\, photography\, woodwork\, jewelry\, handmade crafts\, and much more. \nVisit us at Legion Park from June thru September.
URL:https://www.blockislandferry.com/event/block-island-farmers-market-2-2-2-2-2-2-2-2-2-2-2-2-2-3-2-2/
LOCATION:Legion Park\, 1 Legion Way\, Block Island\, RI\, 02807\, United States
CATEGORIES:Outdoor Markets
END:VEVENT
BEGIN:VEVENT
DTSTART;TZID=UTC:20240817T090000
DTEND;TZID=UTC:20240817T233000
DTSTAMP:20260421T105643
CREATED:20240302T032558Z
LAST-MODIFIED:20240302T032558Z
UID:10135-1723885200-1723937400@www.blockislandferry.com
SUMMARY:Block Island Farmer's Market
DESCRIPTION:An Island Tradition Since 1984 \nThe Block Island Farmers Market offers fresh flowers\, produce\, baked goods\, local honey\, lemonade\, art\, photography\, woodwork\, jewelry\, handmade crafts\, and much more. \nVisit us at Legion Park from June thru September.
URL:https://www.blockislandferry.com/event/block-island-farmers-market-2-2-2-2-2-2-2-2-2-2-2-2-2-3-2-2-2/
LOCATION:Legion Park\, 1 Legion Way\, Block Island\, RI\, 02807\, United States
CATEGORIES:Outdoor Markets
END:VEVENT
BEGIN:VEVENT
DTSTART;TZID=UTC:20240818T090000
DTEND;TZID=UTC:20240818T140000
DTSTAMP:20260421T105643
CREATED:20240302T025801Z
LAST-MODIFIED:20240302T031253Z
UID:10079-1723971600-1723989600@www.blockislandferry.com
SUMMARY:Block Island Arts & Crafts Guild Fair
DESCRIPTION:The Block Island Arts and Crafts Guild’s membership includes photographers\, authors\, sculptors and jewelers.  Several times each summer\, from 9 am to 2 pm\, the Block Island Historical Society lawn (Old Town Rd and Ocean Ave) and becomes a showplace and marketplace for guild members.  Stop by\, browse and choose a keepsake or a gift from among the many paintings\, photographs\, sculpture\, jewelry\, fabric arts\, candles\, and more.
URL:https://www.blockislandferry.com/event/block-island-arts-crafts-guild-fair-2-2-2/
LOCATION:Block Island Historical Society\, 18 Old Town Rd\, Block Island\, RI\, 02807
CATEGORIES:Outdoor Markets
END:VEVENT
BEGIN:VEVENT
DTSTART;TZID=UTC:20240821T090000
DTEND;TZID=UTC:20240821T233000
DTSTAMP:20260421T105643
CREATED:20240302T032708Z
LAST-MODIFIED:20240302T032708Z
UID:10137-1724230800-1724283000@www.blockislandferry.com
SUMMARY:Block Island Farmer's Market
DESCRIPTION:An Island Tradition Since 1984 \nThe Block Island Farmers Market offers fresh flowers\, produce\, baked goods\, local honey\, lemonade\, art\, photography\, woodwork\, jewelry\, handmade crafts\, and much more. \nVisit us at Legion Park from June thru September.
URL:https://www.blockislandferry.com/event/block-island-farmers-market-2-2-2-2-2-2-2-2-2-2-2-2-2-3-2-2-3/
LOCATION:Legion Park\, 1 Legion Way\, Block Island\, RI\, 02807\, United States
CATEGORIES:Outdoor Markets
END:VEVENT
BEGIN:VEVENT
DTSTART;TZID=UTC:20240824T090000
DTEND;TZID=UTC:20240824T233000
DTSTAMP:20260421T105643
CREATED:20240302T032751Z
LAST-MODIFIED:20240302T032751Z
UID:10139-1724490000-1724542200@www.blockislandferry.com
SUMMARY:Block Island Farmer's Market
DESCRIPTION:An Island Tradition Since 1984 \nThe Block Island Farmers Market offers fresh flowers\, produce\, baked goods\, local honey\, lemonade\, art\, photography\, woodwork\, jewelry\, handmade crafts\, and much more. \nVisit us at Legion Park from June thru September.
URL:https://www.blockislandferry.com/event/block-island-farmers-market-2-2-2-2-2-2-2-2-2-2-2-2-2-3-2-2-3-2/
LOCATION:Legion Park\, 1 Legion Way\, Block Island\, RI\, 02807\, United States
CATEGORIES:Outdoor Markets
END:VEVENT
BEGIN:VEVENT
DTSTART;TZID=UTC:20240828T090000
DTEND;TZID=UTC:20240828T233000
DTSTAMP:20260421T105643
CREATED:20240302T032833Z
LAST-MODIFIED:20240302T032833Z
UID:10141-1724835600-1724887800@www.blockislandferry.com
SUMMARY:Block Island Farmer's Market
DESCRIPTION:An Island Tradition Since 1984 \nThe Block Island Farmers Market offers fresh flowers\, produce\, baked goods\, local honey\, lemonade\, art\, photography\, woodwork\, jewelry\, handmade crafts\, and much more. \nVisit us at Legion Park from June thru September.
URL:https://www.blockislandferry.com/event/block-island-farmers-market-2-2-2-2-2-2-2-2-2-2-2-2-2-3-2-2-3-2-2/
LOCATION:Legion Park\, 1 Legion Way\, Block Island\, RI\, 02807\, United States
CATEGORIES:Outdoor Markets
END:VEVENT
BEGIN:VEVENT
DTSTART;TZID=UTC:20240831T090000
DTEND;TZID=UTC:20240831T233000
DTSTAMP:20260421T105643
CREATED:20240302T032918Z
LAST-MODIFIED:20240302T032918Z
UID:10143-1725094800-1725147000@www.blockislandferry.com
SUMMARY:Block Island Farmer's Market
DESCRIPTION:An Island Tradition Since 1984 \nThe Block Island Farmers Market offers fresh flowers\, produce\, baked goods\, local honey\, lemonade\, art\, photography\, woodwork\, jewelry\, handmade crafts\, and much more. \nVisit us at Legion Park from June thru September.
URL:https://www.blockislandferry.com/event/block-island-farmers-market-2-2-2-2-2-2-2-2-2-2-2-2-2-3-2-2-3-2-2-2/
LOCATION:Legion Park\, 1 Legion Way\, Block Island\, RI\, 02807\, United States
CATEGORIES:Outdoor Markets
END:VEVENT
END:VCALENDAR